BEGIN:VCALENDAR
VERSION:2.0
PRODID:-//Winrock Town Center - ECPv6.15.19//NONSGML v1.0//EN
CALSCALE:GREGORIAN
METHOD:PUBLISH
X-ORIGINAL-URL:https://winrocktowncenter.com
X-WR-CALDESC:Events for Winrock Town Center
REFRESH-INTERVAL;VALUE=DURATION:PT1H
X-Robots-Tag:noindex
X-PUBLISHED-TTL:PT1H
BEGIN:VTIMEZONE
TZID:America/Denver
BEGIN:DAYLIGHT
TZOFFSETFROM:-0700
TZOFFSETTO:-0600
TZNAME:MDT
DTSTART:20250309T090000
END:DAYLIGHT
BEGIN:STANDARD
TZOFFSETFROM:-0600
TZOFFSETTO:-0700
TZNAME:MST
DTSTART:20251102T080000
END:STANDARD
BEGIN:DAYLIGHT
TZOFFSETFROM:-0700
TZOFFSETTO:-0600
TZNAME:MDT
DTSTART:20260308T090000
END:DAYLIGHT
BEGIN:STANDARD
TZOFFSETFROM:-0600
TZOFFSETTO:-0700
TZNAME:MST
DTSTART:20261101T080000
END:STANDARD
BEGIN:DAYLIGHT
TZOFFSETFROM:-0700
TZOFFSETTO:-0600
TZNAME:MDT
DTSTART:20270314T090000
END:DAYLIGHT
BEGIN:STANDARD
TZOFFSETFROM:-0600
TZOFFSETTO:-0700
TZNAME:MST
DTSTART:20271107T080000
END:STANDARD
END:VTIMEZONE
BEGIN:VEVENT
DTSTART;TZID=America/Denver:20260502T130000
DTEND;TZID=America/Denver:20260502T173000
DTSTAMP:20260422T042748
CREATED:20260114T171928Z
LAST-MODIFIED:20260220T160716Z
UID:10001054-1777726800-1777743000@winrocktowncenter.com
SUMMARY:Derby Day NM 2026
DESCRIPTION:Presented by Holmans USA\, benefiting the New Mexico Cancer Center Foundation \nSaturday\, May 2nd – 1pm-5:30pm
URL:https://winrocktowncenter.com/event/holmans-derby/
LOCATION:AL
ATTACH;FMTTYPE=image/jpeg:https://winrocktowncenter.com/wp-content/uploads/2026/01/RPF-2500-copy-scaled.jpg
END:VEVENT
BEGIN:VEVENT
DTSTART;TZID=America/Denver:20260509T100000
DTEND;TZID=America/Denver:20260509T140000
DTSTAMP:20260422T042748
CREATED:20260114T172212Z
LAST-MODIFIED:20260331T161131Z
UID:10001055-1778320800-1778335200@winrocktowncenter.com
SUMMARY:Spring Fest
DESCRIPTION:Join us at Winrock Park as we kick off the 2026 event season with Spring Fest. From 10:00 AM to 2:00 PM on Saturday\, May 9\, the park will feature an artisan market\, local food trucks\, live entertainment\, a kids market\, family-friendly activities\, Animal Protection NM\, lemonade day\, and more! Spring Fest at Winrock is free and open to the general public. \nLive entertainment schedule:\nMariachi San Jose  10:30 -12:00\nRock 101 12:30 – 2:00 \nFREE RSVP TICKETS HERE \nEvent Guidelines & Info \nFree parking is available throughout Winrock\, with the most convenient access located in the parking garage adjacent to the park. Entrances near Ulta\, Nordstrom Rack\, and across from the park. \nOutside beverages are not permitted. \nWell-behaved dogs are welcome but must remain on a leash at all times. Please clean up after your pet. \nRestrooms are located across from the park and downstairs in Suite 434 (across from Hyena’s Comedy Club). \nChildren must be supervised at all times. \nFor families attending Spring Fest\, a complimentary Tag Your Tots safety station will be available\, provided by COPS Global. \nPresented by
URL:https://winrocktowncenter.com/event/spring-fest/
LOCATION:Winrock Town Center Park\, 2100 Louisiana Blvd NE \, Albuquerque\, NM\, 87110\, United States
ATTACH;FMTTYPE=image/png:https://winrocktowncenter.com/wp-content/uploads/2026/01/Springfest-Website-Ad.png
END:VEVENT
BEGIN:VEVENT
DTSTART;TZID=America/Denver:20260516T080000
DTEND;TZID=America/Denver:20260516T100000
DTSTAMP:20260422T042748
CREATED:20260114T172330Z
LAST-MODIFIED:20260220T161524Z
UID:10001056-1778918400-1778925600@winrocktowncenter.com
SUMMARY:Crohn's & Colitis Foundation Walk / Mustang Car Show
DESCRIPTION:Join the Crohn’s & Colitis Foundation’s largest fundraising event to accelerate breakthroughs in inflammatory bowel disease (IBD) research. At Take Steps\, we don’t just walk — we move hope forward. Together\, we can build a future where Crohn’s disease and ulcerative colitis no longer steal moments\, dreams\, or possibilities. \n  \nRegister HERE\n  \n\nSchedule\nCheck-in Opens\n9 AM \nRibbon Ceremony\n10 AM\nClosing Ceremony\n11:30 AM \n\n\nContact\nLinae Stoner\n332-999-5518 \nSukki Jahnke\n480-942-3170
URL:https://winrocktowncenter.com/event/crohns-colitis-foundation-walk-mustang-car-show/
LOCATION:Winrock Town Center Park\, 2100 Louisiana Blvd NE \, Albuquerque\, NM\, 87110\, United States
ATTACH;FMTTYPE=image/png:https://winrocktowncenter.com/wp-content/uploads/2026/01/Mustang-of-Enchantment.png
END:VEVENT
BEGIN:VEVENT
DTSTART;TZID=America/Denver:20260529T183000
DTEND;TZID=America/Denver:20260529T210000
DTSTAMP:20260422T042748
CREATED:20260302T174212Z
LAST-MODIFIED:20260324T165742Z
UID:10001126-1780079400-1780088400@winrocktowncenter.com
SUMMARY:Hillary Smith and The Chill House Band & Memphis P-Tails
DESCRIPTION:Free RSVP Here\nEvent Guidelines & Info \nFree parking is available throughout Winrock\, with the most convenient access located in the parking garage adjacent to the park. \nOutside beverages are not permitted. \nWell-behaved dogs are welcome but must remain on a leash at all times. Please clean up after your pet. \nRestrooms are located across from the park and downstairs in Suite 434 (across from Hyena’s Comedy Club). \nChildren must be supervised at all times. \nFor concerts\, guests are encouraged to bring their own chairs or blankets for seating. Pop-up tents and any items with stakes are not permitted on the lawn.
URL:https://winrocktowncenter.com/event/hillary-smith-and-the-chill-house-band-memphis-p-tails/
LOCATION:Winrock Park\, Behind Dillard's across from Regal\, AL\, United States
ATTACH;FMTTYPE=image/webp:https://winrocktowncenter.com/wp-content/uploads/2026/03/cdihix54qutlmgkfn5gf.webp
END:VEVENT
END:VCALENDAR