BEGIN:VCALENDAR
VERSION:2.0
PRODID:-//Winrock Town Center - ECPv6.15.19//NONSGML v1.0//EN
CALSCALE:GREGORIAN
METHOD:PUBLISH
X-ORIGINAL-URL:https://winrocktowncenter.com
X-WR-CALDESC:Events for Winrock Town Center
REFRESH-INTERVAL;VALUE=DURATION:PT1H
X-Robots-Tag:noindex
X-PUBLISHED-TTL:PT1H
BEGIN:VTIMEZONE
TZID:America/Denver
BEGIN:DAYLIGHT
TZOFFSETFROM:-0700
TZOFFSETTO:-0600
TZNAME:MDT
DTSTART:20250309T090000
END:DAYLIGHT
BEGIN:STANDARD
TZOFFSETFROM:-0600
TZOFFSETTO:-0700
TZNAME:MST
DTSTART:20251102T080000
END:STANDARD
BEGIN:DAYLIGHT
TZOFFSETFROM:-0700
TZOFFSETTO:-0600
TZNAME:MDT
DTSTART:20260308T090000
END:DAYLIGHT
BEGIN:STANDARD
TZOFFSETFROM:-0600
TZOFFSETTO:-0700
TZNAME:MST
DTSTART:20261101T080000
END:STANDARD
BEGIN:DAYLIGHT
TZOFFSETFROM:-0700
TZOFFSETTO:-0600
TZNAME:MDT
DTSTART:20270314T090000
END:DAYLIGHT
BEGIN:STANDARD
TZOFFSETFROM:-0600
TZOFFSETTO:-0700
TZNAME:MST
DTSTART:20271107T080000
END:STANDARD
END:VTIMEZONE
BEGIN:VEVENT
DTSTART;TZID=America/Denver:20260605T183000
DTEND;TZID=America/Denver:20260605T210000
DTSTAMP:20260422T075803
CREATED:20260302T175209Z
LAST-MODIFIED:20260324T165757Z
UID:10001127-1780684200-1780693200@winrocktowncenter.com
SUMMARY:Lone Piñon CD Release Celebration
DESCRIPTION:Free RSVP Here\nEvent Guidelines & Info \nFree parking is available throughout Winrock\, with the most convenient access located in the parking garage adjacent to the park. \nOutside beverages are not permitted. \nWell-behaved dogs are welcome but must remain on a leash at all times. Please clean up after your pet. \nRestrooms are located across from the park and downstairs in Suite 434 (across from Hyena’s Comedy Club). \nChildren must be supervised at all times. \nFor concerts\, guests are encouraged to bring their own chairs or blankets for seating. Pop-up tents and any items with stakes are not permitted on the lawn.
URL:https://winrocktowncenter.com/event/lone-pinon-cd-release-celebration/
LOCATION:Winrock Park\, Behind Dillard's across from Regal\, AL\, United States
ATTACH;FMTTYPE=image/webp:https://winrocktowncenter.com/wp-content/uploads/2026/03/46t0zsg1grbjkfaniuup.webp
END:VEVENT
BEGIN:VEVENT
DTSTART;TZID=America/Denver:20260612T183000
DTEND;TZID=America/Denver:20260612T210000
DTSTAMP:20260422T075803
CREATED:20260302T175344Z
LAST-MODIFIED:20260324T165812Z
UID:10001128-1781289000-1781298000@winrocktowncenter.com
SUMMARY:El Gozao & Los 33 ABQ
DESCRIPTION:Free RSVP Here\nEvent Guidelines & Info \nFree parking is available throughout Winrock\, with the most convenient access located in the parking garage adjacent to the park. \nOutside beverages are not permitted. \nWell-behaved dogs are welcome but must remain on a leash at all times. Please clean up after your pet. \nRestrooms are located across from the park and downstairs in Suite 434 (across from Hyena’s Comedy Club). \nChildren must be supervised at all times. \nFor concerts\, guests are encouraged to bring their own chairs or blankets for seating. Pop-up tents and any items with stakes are not permitted on the lawn.
URL:https://winrocktowncenter.com/event/el-gozao-los-33-abq/
LOCATION:Winrock Park\, Behind Dillard's across from Regal\, AL\, United States
ATTACH;FMTTYPE=image/webp:https://winrocktowncenter.com/wp-content/uploads/2026/03/78ag8i8zxrclfu4djvq0.webp
END:VEVENT
BEGIN:VEVENT
DTSTART;TZID=America/Denver:20260619T183000
DTEND;TZID=America/Denver:20260619T210000
DTSTAMP:20260422T075803
CREATED:20260302T175554Z
LAST-MODIFIED:20260324T165828Z
UID:10001129-1781893800-1781902800@winrocktowncenter.com
SUMMARY:Severo y Grupo Fuego and Lara Manzanares
DESCRIPTION:Free RSVP Here\nEvent Guidelines & Info \nFree parking is available throughout Winrock\, with the most convenient access located in the parking garage adjacent to the park. \nOutside beverages are not permitted. \nWell-behaved dogs are welcome but must remain on a leash at all times. Please clean up after your pet. \nRestrooms are located across from the park and downstairs in Suite 434 (across from Hyena’s Comedy Club). \nChildren must be supervised at all times. \nFor concerts\, guests are encouraged to bring their own chairs or blankets for seating. Pop-up tents and any items with stakes are not permitted on the lawn.
URL:https://winrocktowncenter.com/event/severo-y-grupo-fuego-and-lara-manzanares/
LOCATION:Winrock Park\, Behind Dillard's across from Regal\, AL\, United States
ATTACH;FMTTYPE=image/webp:https://winrocktowncenter.com/wp-content/uploads/2026/03/nl0cwxp8qor5zpnq1ryw.webp
END:VEVENT
BEGIN:VEVENT
DTSTART;TZID=America/Denver:20260626T183000
DTEND;TZID=America/Denver:20260626T210000
DTSTAMP:20260422T075803
CREATED:20260302T175802Z
LAST-MODIFIED:20260324T165846Z
UID:10001130-1782498600-1782507600@winrocktowncenter.com
SUMMARY:Red Light Cameras and NEH
DESCRIPTION:Free RSVP Here\nEvent Guidelines & Info \nFree parking is available throughout Winrock\, with the most convenient access located in the parking garage adjacent to the park. \nOutside beverages are not permitted. \nWell-behaved dogs are welcome but must remain on a leash at all times. Please clean up after your pet. \nRestrooms are located across from the park and downstairs in Suite 434 (across from Hyena’s Comedy Club). \nChildren must be supervised at all times. \nFor concerts\, guests are encouraged to bring their own chairs or blankets for seating. Pop-up tents and any items with stakes are not permitted on the lawn.
URL:https://winrocktowncenter.com/event/red-light-cameras-and-neh/
LOCATION:Winrock Park\, Behind Dillard's across from Regal\, AL\, United States
ATTACH;FMTTYPE=image/webp:https://winrocktowncenter.com/wp-content/uploads/2026/03/av6iasb2v7b6tabkcor1.webp
END:VEVENT
BEGIN:VEVENT
DTSTART;TZID=America/Denver:20260710T183000
DTEND;TZID=America/Denver:20260710T210000
DTSTAMP:20260422T075803
CREATED:20260302T180123Z
LAST-MODIFIED:20260324T165901Z
UID:10001131-1783708200-1783717200@winrocktowncenter.com
SUMMARY:Vibestrong and Dre Z Melodi
DESCRIPTION:Free RSVP Here\nEvent Guidelines & Info \nFree parking is available throughout Winrock\, with the most convenient access located in the parking garage adjacent to the park. \nOutside beverages are not permitted. \nWell-behaved dogs are welcome but must remain on a leash at all times. Please clean up after your pet. \nRestrooms are located across from the park and downstairs in Suite 434 (across from Hyena’s Comedy Club). \nChildren must be supervised at all times. \nFor concerts\, guests are encouraged to bring their own chairs or blankets for seating. Pop-up tents and any items with stakes are not permitted on the lawn.
URL:https://winrocktowncenter.com/event/vibestrong-and-dre-z-melodi/
LOCATION:Winrock Park\, Behind Dillard's across from Regal\, AL\, United States
ATTACH;FMTTYPE=image/webp:https://winrocktowncenter.com/wp-content/uploads/2026/03/czxlt6ziv479mnac6rcy.webp
END:VEVENT
BEGIN:VEVENT
DTSTART;TZID=America/Denver:20260717T183000
DTEND;TZID=America/Denver:20260717T210000
DTSTAMP:20260422T075803
CREATED:20260302T180841Z
LAST-MODIFIED:20260324T165920Z
UID:10001132-1784313000-1784322000@winrocktowncenter.com
SUMMARY:The MacHeartbreakers - Tributes to Fleetwood Mac & Tom Petty
DESCRIPTION:Free RSVP Here\nEvent Guidelines & Info \nFree parking is available throughout Winrock\, with the most convenient access located in the parking garage adjacent to the park. \nOutside beverages are not permitted. \nWell-behaved dogs are welcome but must remain on a leash at all times. Please clean up after your pet. \nRestrooms are located across from the park and downstairs in Suite 434 (across from Hyena’s Comedy Club). \nChildren must be supervised at all times. \nFor concerts\, guests are encouraged to bring their own chairs or blankets for seating. Pop-up tents and any items with stakes are not permitted on the lawn.
URL:https://winrocktowncenter.com/event/the-macheartbreakers-tributes-to-fleetwood-mac-tom-petty/
LOCATION:Winrock Park\, Behind Dillard's across from Regal\, AL\, United States
ATTACH;FMTTYPE=image/webp:https://winrocktowncenter.com/wp-content/uploads/2026/03/z8vyk5aajz60tfamie4q.webp
END:VEVENT
BEGIN:VEVENT
DTSTART;TZID=America/Denver:20260724T183000
DTEND;TZID=America/Denver:20260724T210000
DTSTAMP:20260422T075803
CREATED:20260302T181024Z
LAST-MODIFIED:20260324T165938Z
UID:10001133-1784917800-1784926800@winrocktowncenter.com
SUMMARY:The Mango Cakes & JD Nash and the Rash of Cash
DESCRIPTION:Free RSVP Here\nEvent Guidelines & Info \nFree parking is available throughout Winrock\, with the most convenient access located in the parking garage adjacent to the park. \nOutside beverages are not permitted. \nWell-behaved dogs are welcome but must remain on a leash at all times. Please clean up after your pet. \nRestrooms are located across from the park and downstairs in Suite 434 (across from Hyena’s Comedy Club). \nChildren must be supervised at all times. \nFor concerts\, guests are encouraged to bring their own chairs or blankets for seating. Pop-up tents and any items with stakes are not permitted on the lawn.
URL:https://winrocktowncenter.com/event/the-mango-cakes-jd-nash-and-the-rash-of-cash/
LOCATION:Winrock Park\, Behind Dillard's across from Regal\, AL\, United States
ATTACH;FMTTYPE=image/webp:https://winrocktowncenter.com/wp-content/uploads/2026/03/iswf3uxt8r6iovddm8if.webp
END:VEVENT
BEGIN:VEVENT
DTSTART;VALUE=DATE:20260801
DTEND;VALUE=DATE:20260802
DTSTAMP:20260422T075803
CREATED:20260114T174111Z
LAST-MODIFIED:20260324T165959Z
UID:10001066-1785542400-1785628799@winrocktowncenter.com
SUMMARY:Winrock Fest
DESCRIPTION:Saturday\, August 1st \nEvent Guidelines & Info \nFree parking is available throughout Winrock\, with the most convenient access located in the parking garage adjacent to the park. \nOutside beverages are not permitted. \nWell-behaved dogs are welcome but must remain on a leash at all times. Please clean up after your pet. \nRestrooms are located across from the park and downstairs in Suite 434 (across from Hyena’s Comedy Club). \nChildren must be supervised at all times. \nFor concerts\, guests are encouraged to bring their own chairs or blankets for seating. Pop-up tents and any items with stakes are not permitted on the lawn.
URL:https://winrocktowncenter.com/event/winrock-fest/
LOCATION:Winrock Town Center Park\, 2100 Louisiana Blvd NE \, Albuquerque\, NM\, 87110\, United States
ATTACH;FMTTYPE=image/png:https://winrocktowncenter.com/wp-content/uploads/2026/02/DJI_0040.00_00_46_10.Still017-scaled.png
END:VEVENT
BEGIN:VEVENT
DTSTART;TZID=America/Denver:20260911T180000
DTEND;TZID=America/Denver:20260911T210000
DTSTAMP:20260422T075803
CREATED:20260114T180116Z
LAST-MODIFIED:20260220T161945Z
UID:10001067-1789149600-1789160400@winrocktowncenter.com
SUMMARY:Fall Concert Series
DESCRIPTION:Free Friday Fall Concerts
URL:https://winrocktowncenter.com/event/fall-concert-series/2026-09-11/
LOCATION:Winrock Town Center Park\, 2100 Louisiana Blvd NE \, Albuquerque\, NM\, 87110\, United States
ATTACH;FMTTYPE=image/png:https://winrocktowncenter.com/wp-content/uploads/2026/01/DJI_0040.00_01_41_00.Still006-scaled.png
END:VEVENT
BEGIN:VEVENT
DTSTART;TZID=America/Denver:20260918T180000
DTEND;TZID=America/Denver:20260918T210000
DTSTAMP:20260422T075803
CREATED:20260114T180116Z
LAST-MODIFIED:20260220T161945Z
UID:10001068-1789754400-1789765200@winrocktowncenter.com
SUMMARY:Fall Concert Series
DESCRIPTION:Free Friday Fall Concerts
URL:https://winrocktowncenter.com/event/fall-concert-series/2026-09-18/
LOCATION:Winrock Town Center Park\, 2100 Louisiana Blvd NE \, Albuquerque\, NM\, 87110\, United States
ATTACH;FMTTYPE=image/png:https://winrocktowncenter.com/wp-content/uploads/2026/01/DJI_0040.00_01_41_00.Still006-scaled.png
END:VEVENT
BEGIN:VEVENT
DTSTART;TZID=America/Denver:20260925T180000
DTEND;TZID=America/Denver:20260925T210000
DTSTAMP:20260422T075803
CREATED:20260114T180116Z
LAST-MODIFIED:20260220T161945Z
UID:10001069-1790359200-1790370000@winrocktowncenter.com
SUMMARY:Fall Concert Series
DESCRIPTION:Free Friday Fall Concerts
URL:https://winrocktowncenter.com/event/fall-concert-series/2026-09-25/
LOCATION:Winrock Town Center Park\, 2100 Louisiana Blvd NE \, Albuquerque\, NM\, 87110\, United States
ATTACH;FMTTYPE=image/png:https://winrocktowncenter.com/wp-content/uploads/2026/01/DJI_0040.00_01_41_00.Still006-scaled.png
END:VEVENT
BEGIN:VEVENT
DTSTART;TZID=America/Denver:20261002T180000
DTEND;TZID=America/Denver:20261002T210000
DTSTAMP:20260422T075803
CREATED:20260114T180116Z
LAST-MODIFIED:20260220T161945Z
UID:10001070-1790964000-1790974800@winrocktowncenter.com
SUMMARY:Fall Concert Series
DESCRIPTION:Free Friday Fall Concerts
URL:https://winrocktowncenter.com/event/fall-concert-series/2026-10-02/
LOCATION:Winrock Town Center Park\, 2100 Louisiana Blvd NE \, Albuquerque\, NM\, 87110\, United States
ATTACH;FMTTYPE=image/png:https://winrocktowncenter.com/wp-content/uploads/2026/01/DJI_0040.00_01_41_00.Still006-scaled.png
END:VEVENT
BEGIN:VEVENT
DTSTART;TZID=America/Denver:20261009T180000
DTEND;TZID=America/Denver:20261009T210000
DTSTAMP:20260422T075803
CREATED:20260114T180116Z
LAST-MODIFIED:20260220T161945Z
UID:10001071-1791568800-1791579600@winrocktowncenter.com
SUMMARY:Fall Concert Series
DESCRIPTION:Free Friday Fall Concerts
URL:https://winrocktowncenter.com/event/fall-concert-series/2026-10-09/
LOCATION:Winrock Town Center Park\, 2100 Louisiana Blvd NE \, Albuquerque\, NM\, 87110\, United States
ATTACH;FMTTYPE=image/png:https://winrocktowncenter.com/wp-content/uploads/2026/01/DJI_0040.00_01_41_00.Still006-scaled.png
END:VEVENT
BEGIN:VEVENT
DTSTART;TZID=America/Denver:20261024T100000
DTEND;TZID=America/Denver:20261024T140000
DTSTAMP:20260422T075803
CREATED:20260114T180448Z
LAST-MODIFIED:20260220T162153Z
UID:10001124-1792836000-1792850400@winrocktowncenter.com
SUMMARY:Harvest Fest
DESCRIPTION:Winrock Harvest Fest – Saturday\, October 24th – 10am-2pm
URL:https://winrocktowncenter.com/event/harvest-fest-2/
LOCATION:Winrock Town Center Park\, 2100 Louisiana Blvd NE \, Albuquerque\, NM\, 87110\, United States
ATTACH;FMTTYPE=image/png:https://winrocktowncenter.com/wp-content/uploads/2026/01/DJI_0040.00_00_30_08.Still013-scaled.png
END:VEVENT
BEGIN:VEVENT
DTSTART;VALUE=DATE:20261127
DTEND;VALUE=DATE:20261129
DTSTAMP:20260422T075803
CREATED:20260114T180745Z
LAST-MODIFIED:20260220T162306Z
UID:10001125-1795737600-1795910399@winrocktowncenter.com
SUMMARY:Winrock Wonderland
DESCRIPTION:Winrock Wonderland 2026 – November 27th and 28th
URL:https://winrocktowncenter.com/event/winrock-wonderland/
LOCATION:Winrock Town Center Park\, 2100 Louisiana Blvd NE \, Albuquerque\, NM\, 87110\, United States
ATTACH;FMTTYPE=image/png:https://winrocktowncenter.com/wp-content/uploads/2026/01/DJI_0040.00_00_53_01.Still024-scaled.png
END:VEVENT
END:VCALENDAR